BEGIN:VCALENDAR
VERSION:2.0
PRODID:-//STEMteachersNYC - ECPv6.15.20//NONSGML v1.0//EN
CALSCALE:GREGORIAN
METHOD:PUBLISH
X-WR-CALNAME:STEMteachersNYC
X-ORIGINAL-URL:https://stemteachersnyc.org
X-WR-CALDESC:Events for STEMteachersNYC
REFRESH-INTERVAL;VALUE=DURATION:PT1H
X-Robots-Tag:noindex
X-PUBLISHED-TTL:PT1H
BEGIN:VTIMEZONE
TZID:UTC
BEGIN:STANDARD
TZOFFSETFROM:+0000
TZOFFSETTO:+0000
TZNAME:UTC
DTSTART:20210101T000000
END:STANDARD
END:VTIMEZONE
BEGIN:VEVENT
DTSTART;TZID=UTC:20221117T183000
DTEND;TZID=UTC:20221117T193000
DTSTAMP:20260422T075112
CREATED:20220912T121837Z
LAST-MODIFIED:20221011T155213Z
UID:10000023-1668709800-1668713400@stemteachersnyc.org
SUMMARY:Cracking Chemistry Together: Working Group
DESCRIPTION:Leader: Pat Bauer \n\n\n\nLooking for ideas and resources for transforming your chemistry lessons? Looking for new strategies for THIS year’s classes or new to teaching chemistry? Work with seasoned chemistry teachers and collaborate with peers on timely\, immediate\, vetted resources to help with next week’s lessons\, or get help with adapting lessons for students with specific learning needs. The Cracking Chemistry working group is a space for exchanging ideas\, brainstorming\, troubleshooting lessons\, activities\, or assessments – together! \n\n\n\n\n\n\n\nIf you are interested in joining this working group please fill our the form below.\n\n\n\nLoading…
URL:https://stemteachersnyc.org/event/cracking-chemistry-together/2022-11-17/
CATEGORIES:Upcoming Events,Working Groups
ATTACH;FMTTYPE=image/png:https://stemteachersnyc.org/wp-content/uploads/2022/09/climate-change-2160-×-1080-px.png
END:VEVENT
BEGIN:VEVENT
DTSTART;TZID=UTC:20221110T183000
DTEND;TZID=UTC:20221110T193000
DTSTAMP:20260422T075112
CREATED:20220912T121837Z
LAST-MODIFIED:20221011T155213Z
UID:10000022-1668105000-1668108600@stemteachersnyc.org
SUMMARY:Cracking Chemistry Together: Working Group
DESCRIPTION:Leader: Pat Bauer \n\n\n\nLooking for ideas and resources for transforming your chemistry lessons? Looking for new strategies for THIS year’s classes or new to teaching chemistry? Work with seasoned chemistry teachers and collaborate with peers on timely\, immediate\, vetted resources to help with next week’s lessons\, or get help with adapting lessons for students with specific learning needs. The Cracking Chemistry working group is a space for exchanging ideas\, brainstorming\, troubleshooting lessons\, activities\, or assessments – together! \n\n\n\n\n\n\n\nIf you are interested in joining this working group please fill our the form below.\n\n\n\nLoading…
URL:https://stemteachersnyc.org/event/cracking-chemistry-together/2022-11-10/
CATEGORIES:Upcoming Events,Working Groups
ATTACH;FMTTYPE=image/png:https://stemteachersnyc.org/wp-content/uploads/2022/09/climate-change-2160-×-1080-px.png
END:VEVENT
BEGIN:VEVENT
DTSTART;TZID=UTC:20221027T183000
DTEND;TZID=UTC:20221027T193000
DTSTAMP:20260422T075112
CREATED:20220912T121837Z
LAST-MODIFIED:20221011T155213Z
UID:10000021-1666895400-1666899000@stemteachersnyc.org
SUMMARY:Cracking Chemistry Together: Working Group
DESCRIPTION:Leader: Pat Bauer \n\n\n\nLooking for ideas and resources for transforming your chemistry lessons? Looking for new strategies for THIS year’s classes or new to teaching chemistry? Work with seasoned chemistry teachers and collaborate with peers on timely\, immediate\, vetted resources to help with next week’s lessons\, or get help with adapting lessons for students with specific learning needs. The Cracking Chemistry working group is a space for exchanging ideas\, brainstorming\, troubleshooting lessons\, activities\, or assessments – together! \n\n\n\n\n\n\n\nIf you are interested in joining this working group please fill our the form below.\n\n\n\nLoading…
URL:https://stemteachersnyc.org/event/cracking-chemistry-together/2022-10-27/
CATEGORIES:Upcoming Events,Working Groups
ATTACH;FMTTYPE=image/png:https://stemteachersnyc.org/wp-content/uploads/2022/09/climate-change-2160-×-1080-px.png
END:VEVENT
BEGIN:VEVENT
DTSTART;TZID=UTC:20221013T183000
DTEND;TZID=UTC:20221013T193000
DTSTAMP:20260422T075112
CREATED:20220912T121837Z
LAST-MODIFIED:20221011T155213Z
UID:10000020-1665685800-1665689400@stemteachersnyc.org
SUMMARY:Cracking Chemistry Together: Working Group
DESCRIPTION:Leader: Pat Bauer \n\n\n\nLooking for ideas and resources for transforming your chemistry lessons? Looking for new strategies for THIS year’s classes or new to teaching chemistry? Work with seasoned chemistry teachers and collaborate with peers on timely\, immediate\, vetted resources to help with next week’s lessons\, or get help with adapting lessons for students with specific learning needs. The Cracking Chemistry working group is a space for exchanging ideas\, brainstorming\, troubleshooting lessons\, activities\, or assessments – together! \n\n\n\n\n\n\n\nIf you are interested in joining this working group please fill our the form below.\n\n\n\nLoading…
URL:https://stemteachersnyc.org/event/cracking-chemistry-together/2022-10-13/
CATEGORIES:Upcoming Events,Working Groups
ATTACH;FMTTYPE=image/png:https://stemteachersnyc.org/wp-content/uploads/2022/09/climate-change-2160-×-1080-px.png
END:VEVENT
END:VCALENDAR