BEGIN:VCALENDAR
VERSION:2.0
PRODID:-//STEMteachersNYC - ECPv6.15.20//NONSGML v1.0//EN
CALSCALE:GREGORIAN
METHOD:PUBLISH
X-WR-CALNAME:STEMteachersNYC
X-ORIGINAL-URL:https://stemteachersnyc.org
X-WR-CALDESC:Events for STEMteachersNYC
REFRESH-INTERVAL;VALUE=DURATION:PT1H
X-Robots-Tag:noindex
X-PUBLISHED-TTL:PT1H
BEGIN:VTIMEZONE
TZID:America/New_York
BEGIN:DAYLIGHT
TZOFFSETFROM:-0500
TZOFFSETTO:-0400
TZNAME:EDT
DTSTART:20220313T070000
END:DAYLIGHT
BEGIN:STANDARD
TZOFFSETFROM:-0400
TZOFFSETTO:-0500
TZNAME:EST
DTSTART:20221106T060000
END:STANDARD
BEGIN:DAYLIGHT
TZOFFSETFROM:-0500
TZOFFSETTO:-0400
TZNAME:EDT
DTSTART:20230312T070000
END:DAYLIGHT
BEGIN:STANDARD
TZOFFSETFROM:-0400
TZOFFSETTO:-0500
TZNAME:EST
DTSTART:20231105T060000
END:STANDARD
BEGIN:DAYLIGHT
TZOFFSETFROM:-0500
TZOFFSETTO:-0400
TZNAME:EDT
DTSTART:20240310T070000
END:DAYLIGHT
BEGIN:STANDARD
TZOFFSETFROM:-0400
TZOFFSETTO:-0500
TZNAME:EST
DTSTART:20241103T060000
END:STANDARD
END:VTIMEZONE
BEGIN:VEVENT
DTSTART;TZID=America/New_York:20230726T090000
DTEND;TZID=America/New_York:20230727T150000
DTSTAMP:20260422T210031
CREATED:20230317T110231Z
LAST-MODIFIED:20230623T141822Z
UID:10000052-1690362000-1690470000@stemteachersnyc.org
SUMMARY:Survival Essentials for the Classroom - Ideal for New Teachers (ALL GRADES)
DESCRIPTION:For a limited time only\, we’re offering a 25% discount on our summer workshops. Use code SummerSTEMFLASH25 at checkout and let the STEM adventure begin!\n\n\n\n\n\n\n\n\n\n\nGain the skills beyond the pedagogy and content that will help you succeed in your first years as a teacher. Join one or all four workshops!\n\n\nLeaders: Jenna Peet\, Kimesha Reid Grant and Elissa Levy \nDates: August 2023 (9:00-3:00pm EDT\, via Zoom) \nAbout the Workshop  \nThe Survival Essentials workshop for new and pre-service teachers offers you insight\, resources\, and support to help you establish solid routines\, systems\, and strategies for communication and assessment for your classroom. Gain the skills that help your ‘behind the scenes’ work run smoothly so you can get back to teaching! \nPart 1: Parent Communication  \nLearn strategies for seamless and stress-free communication with parents. You will leave with ideas for organizing class-wide parent updates\, improving conversations with individual parents\, and holding efficient and productive conferences\, as well as setting boundaries that respect your time and class policies. \nPart 2: Self-running Classrooms \nMake your job easier by setting up your teaching space and designing procedures (for yourself and students) that are intuitive and make routines easy. Join us to share and learn strategies for making your class predictable and manageable for your students\, from organizing materials\, to writing classroom rules and behavioral policies\, to assigning roles to delegate responsibilities. \nPart 3: Sustainable Systems \nYour time and energy are limited\, so it’s worth investing some time now into creating systems that will keep your schedule on track and your head clear. In this session\, we’ll discuss ways of managing your papers\, establishing your weekly work/life balance\, onboarding new parents\, and focusing students through transitions\, so that you achieve a sustainable work routine. \nPart 4: Homework \nHomework is a vital part of the learning process for many students\, but it can be a challenge to stay on top of – not to mention getting students (and parents) to see the purpose of the work you assign. Let’s talk about ways of simplifying your systems for planning\, collecting\, and assessing homework\, as well as how to incentivize students by making homework more meaningful to them and how to get parents to support their child’s learning at home. \n \nCost:  $110-200 (Limited # of tickets!); FREE for preservice teachers. Participants receive CTLE for this workshop. \nSTEMteachersNYC delivers professional development workshops for teachers\, by teachers\, about teaching\, since 2011. All workshops over 2hrs offer CTLE. CUNY Pre-service teachers may attend for free; Brooklyn College Pre-service teachers receive Field Site hours. Please reach out if your school requires an invoice. We are an NYCDOE MTAC Vendor. \n \nCurrent CUNY students with valid ID may attend workshops at a discount or for FREE! Please email preservice@stemteachersnyc.org for details. \nEmail general questions to Registration@STEMteachersNYC.org. Note this workshop requires a minimum number of participants. In the event there are not enough participants\, the workshop will be cancelled\, and a refund will be issued. \n \nInterested in an Invoice/Purchase Order Request? \nTeachers! Ask your school to pay for your ticket! All the school needs to do is send us a Purchase Order (PO). Fill out our PO/Invoice survey and we will prepare you an invoice for you to submit to your school/district. Or just copy and paste the information above and let them know the workshop you want to attend. Don’t be afraid to ask. There’s always a chance the money will be available and they’ll say yes\, but if you don’t ask\, there’s no chance at all. \nDistricts/Schools\, to request an invoice for a STEMteachersNYC Workshop\, please fill out a quick invoice survey. This is a required step in order to process your request. Any questions regarding the PO process please contact bookkeeper@stemteachersnyc.org \nPlease send Purchase Orders (POs) to our Billing Office \nVia Email: bookkeeper@stemteachersnyc.org \nOR Via US Mail: STEMteachersNYC – Billing Office 245 West 107th Street\, Suite 10B New York\, NY 10025. \n \nPlease read the FAQs section below carefully before registering. \n \nFAQs \nIs STEMteachersNYC an approved NYC DOE CTLE Vendor? \nYes. STEMteachersNYC is a Continuing Teacher and Leader Education (CTLE) vendor for the New York City Department of Education (#STE-068881). New York State Teachers will receive a CTLE certificate at the end of the workshop.  (CTLE ID # 23385) \n \nHow can I contact the organizer with any questions? \nQuestions about registration or tickets should be addressed to registration@STEMteachersNYC.org. \nQuestions about invoice/PO issues should be addressed to bookkeeper@STEMteachersNYC.org \nQuestions about our programs should be addressed to info@STEMteachersNYC.org \n \nIs the full workshop fee or the balance of the workshop fee refundable?  \nRefunds for the balance of the full workshop fee (that is\, the full fee minus the reservation fee) must be requested within one (1) week of payment and at least four (4) weeks before the start of the workshop. All such requests must be accompanied by an acceptable\, documented explanation. Judgments about acceptability of explanations and documentation\, and about whether or not a refund will be issued are at the sole discretion of STEMteachersNYC and are final. Refunds will not include fees charged on the initial payment by Eventbrite\, credit cards\, and/or banks. \n \nIs my reservation/ticket transferrable? \nIf your school or organization has made the ticket purchase for you\, your credit may be transferable to a school or organization colleague. \nAuthorization from our team will be required. Please contact the STEMteachersNYC Registrar (Registration@STEMteachersNYC.org) if you need to transfer your reservation to a different person/name\, or if you wish to transfer your reservation to a different workshop. \n \nCan I update my reservation information? \nYes\, you can update your reservation information. \n \nThe name on the reservation/ticket doesn’t match the attendee. Is that okay? \nNo\, please contact the STEMteachersNYC Registrar (Registration@STEMteachersNYC.org) to address this. \n \nCan I receive college level credits? \nIn-service teachers will receive CTLE hours. \nPre-service teachers whose college is participating in our “field-site hours” program will recieve field site hours or credit depending on that institution’s partnership agreement. Please make sure to include your faculty advisor or course professor’s name and contact when registering. \nFor more information about either of these\, please contact info@stemteachersnyc.org. \n \nWhere can I find more information about STEMteachersNYC?  \nVisit our website: http://STEMTeachersNYC.org or email info@stemteachersnyc.org \n \nHow can I join STEMteachersNYC? \nClick here – it’s free! http://stemteachersnyc.org/join/ \nMembers find out about workshops first and can sign up before others. \n \nPlease note: We take screenshots\, photographs and record video of our workshops in order to publicize a positive image of science teaching\, and of STEMteachersNYC – a recognized 501(c)(3) non-profit organization – and to support future teacher leaders. If you register\, you are agreeing to be photographed and to have your voice and image video-recorded. You are also agreeing to relinquish all your rights to the photographs and video recordings. \nIf you do not wish to be photographed or video-recorded – you must inform us before the workshop starts. For in-person workshops\, we will take one photograph of your face so that we can erase your image if we happen to catch it by chance during the workshop\, and we will do our best to avoid you. We would also appreciate your cooperation in positioning yourself at the edge of the group so as to help us avoid you.
URL:https://stemteachersnyc.org/event/survival-essentials-for-the-classroom-ideal-for-new-teachers-all-grades/
LOCATION:Brooklyn College\, 2900 Bedford Avenue\, Brooklyn\, NY\, 11210\, United States
CATEGORIES:All Grades,Elementary School,High School,Middle School,STEM Essentials,Summer STEM 2023,Upcoming Events
ATTACH;FMTTYPE=image/jpeg:https://stemteachersnyc.org/wp-content/uploads/2023/03/e529ab769636cba9b991d87cbca19309.jpg
END:VEVENT
BEGIN:VEVENT
DTSTART;TZID=America/New_York:20230724T090000
DTEND;TZID=America/New_York:20230725T150000
DTSTAMP:20260422T210031
CREATED:20230504T162509Z
LAST-MODIFIED:20230623T141734Z
UID:10000055-1690189200-1690297200@stemteachersnyc.org
SUMMARY:Starting the Year Off Right! (ALL GRADES)
DESCRIPTION:For a limited time only\, we’re offering a 25% discount on our summer workshops. Use code SummerSTEMFLASH25 at checkout and let the STEM adventure begin!\n\n\n\n\n\n\n\n\n\n\nSet the stage for fruitful\, collaborative learning\, and lay the groundwork for a supportive community to grow in your classroom!\n\n\nLeaders: A team of STEMteachersNYC Experienced Teacher Leaders! \nDates: July 24-25\, 2023 (9:00-3:00pm EDT\, via Zoom) \nAbout the Workshop \nThe first few weeks of a new school year can set the stage for fruitful\, collaborative learning\, and lay the groundwork for a supportive community to grow in your classroom. \nWhat is the first day of school like for your students? Would you like to make it something to energize and captivate them? A great year together begins with a great first day together! Come participate in a workshop in which we will showcase various activities\, techniques and experiences to get your students ready and excited for a year together. \nThe beginning of the school year is a critical time to set the tone within our classrooms\, and build relationships with our students. Be ready! Learn new methods for successful tone-setting. Gain new strategies to create a safe and welcoming classroom community. In this workshop\, we will explore ways to connect with our students\, set a positive tone\, and foster a rich learning environment within our STEM classrooms. Participants will walk away with concrete ideas for implementing best teaching practices that will foster a positive and healthy social-emotional learning environment. \nJust in time for the beginning of the school year\, you are sure to walk away with something you can’t wait to try out on the first day back! \n \nCost:  (Limited # of tickets!) \nEarly Bird (through Apr 16\, 2023) $110 \nTeacher Price $140 \nSchool Price $200 \nSTEMteachersNYC delivers professional development workshops for teachers\, by teachers\, about teaching\, since 2011. All workshops over 2hrs offer CTLE. CUNY Pre-service teachers may attend for free; Brooklyn College Pre-service teachers receive Field Site hours. Please reach out if your school requires an invoice. We are an NYCDOE MTAC Vendor. \n \nCurrent CUNY students with valid ID may attend summer workshops at a discount or for FREE! Please email preservice@stemteachersnyc.org for details. \nEmail general questions to Registration@STEMteachersNYC.org. Note this workshop requires a minimum number of participants. In the event there are not enough participants\, the workshop will be cancelled\, and a refund will be issued. \n \nInterested in an Invoice/Purchase Order Request? \nTeachers! Ask your school to pay for your ticket! All the school needs to do is send us a Purchase Order (PO). Fill out our PO/Invoice survey and we will prepare you an invoice for you to submit to your school/district. Or just copy and paste the information above and let them know the workshop you want to attend. Don’t be afraid to ask. There’s always a chance the money will be available and they’ll say yes\, but if you don’t ask\, there’s no chance at all. \nDistricts/Schools\, to request an invoice for a STEMteachersNYC Workshop\, please fill out a quick invoice survey. This is a required step in order to process your request. Any questions regarding the PO process please contact bookkeeper@stemteachersnyc.org \nPlease send Purchase Orders (POs) to our Billing Office \nVia Email: bookkeeper@stemteachersnyc.org \nOR Via US Mail: STEMteachersNYC – Billing Office 245 West 107th Street\, Suite 10B New York\, NY 10025. \n \nPlease read the FAQs section below carefully before registering. \n \nFAQs \nIs STEMteachersNYC an approved NYC DOE CTLE Vendor? \nYes. STEMteachersNYC is a Continuing Teacher and Leader Education (CTLE) vendor for the New York City Department of Education (#STE-068881). New York State Teachers will receive a CTLE certificate at the end of the workshop.  (CTLE ID # 23385) \n \nHow can I contact the organizer with any questions? \nQuestions about registration or tickets should be addressed to registration@STEMteachersNYC.org. \nQuestions about invoice/PO issues should be addressed to bookkeeper@STEMteachersNYC.org \nQuestions about our programs should be addressed to info@STEMteachersNYC.org \n \nIs the full workshop fee or the balance of the workshop fee refundable?  \nRefunds for the balance of the full workshop fee (that is\, the full fee minus the reservation fee) must be requested within one (1) week of payment and at least four (4) weeks before the start of the workshop. All such requests must be accompanied by an acceptable\, documented explanation. Judgments about acceptability of explanations and documentation\, and about whether or not a refund will be issued are at the sole discretion of STEMteachersNYC and are final. Refunds will not include fees charged on the initial payment by Eventbrite\, credit cards\, and/or banks. \n \nIs my reservation/ticket transferrable? \nIf your school or organization has made the ticket purchase for you\, your credit may be transferable to a school or organization colleague. \nAuthorization from our team will be required. Please contact the STEMteachersNYC Registrar (Registration@STEMteachersNYC.org) if you need to transfer your reservation to a different person/name\, or if you wish to transfer your reservation to a different workshop. \n \nCan I update my reservation information? \nYes\, you can update your reservation information. \n \nThe name on the reservation/ticket doesn’t match the attendee. Is that okay? \nNo\, please contact the STEMteachersNYC Registrar (Registration@STEMteachersNYC.org) to address this. \n \nCan I receive college level credits? \nIn-service teachers will receive CTLE hours. \nPre-service teachers whose college is participating in our “field-site hours” program will recieve filed site hours or credit depending on that institution’s partnership agreement. Please make sure to include your faculty advisor or course professor’s name and contact when registering. \nFor more information about either of these\, please contact info@stemteachersnyc.org. \n \nWhere can I find more information about STEMteachersNYC?  \nVisit our website: http://STEMTeachersNYC.org or email info@stemteachersnyc.org \n \nHow can I join STEMteachersNYC? \nClick here – it’s free! http://stemteachersnyc.org/join/ \nMembers find out about workshops first and can sign up before others. \n \nPlease note: We take screenshots\, photographs and record video of our workshops in order to publicize a positive image of science teaching\, and of STEMteachersNYC – a recognized 501(c)(3) non-profit organization – and to support future teacher leaders. If you register\, you are agreeing to be photographed and to have your voice and image video-recorded. You are also agreeing to relinquish all your rights to the photographs and video recordings. \nIf you do not wish to be photographed or video-recorded – you must inform us before the workshop starts. For in-person workshops\, we will take one photograph of your face so that we can erase your image if we happen to catch it by chance during the workshop\, and we will do our best to avoid you. We would also appreciate your cooperation in positioning yourself at the edge of the group so as to help us avoid you.
URL:https://stemteachersnyc.org/event/starting-the-year-off-right-all-grades/
LOCATION:Brooklyn College\, 2900 Bedford Avenue\, Brooklyn\, NY\, 11210\, United States
CATEGORIES:All Grades,Elementary School,High School,Middle School,Summer STEM 2023,Upcoming Events
ATTACH;FMTTYPE=image/jpeg:https://stemteachersnyc.org/wp-content/uploads/2023/05/f24ff5c7444b64bfe947045b779d643f.jpg
END:VEVENT
END:VCALENDAR