BEGIN:VCALENDAR
VERSION:2.0
PRODID:-//STEMteachersNYC - ECPv6.15.20//NONSGML v1.0//EN
CALSCALE:GREGORIAN
METHOD:PUBLISH
X-ORIGINAL-URL:https://stemteachersnyc.org
X-WR-CALDESC:Events for STEMteachersNYC
REFRESH-INTERVAL;VALUE=DURATION:PT1H
X-Robots-Tag:noindex
X-PUBLISHED-TTL:PT1H
BEGIN:VTIMEZONE
TZID:America/New_York
BEGIN:DAYLIGHT
TZOFFSETFROM:-0500
TZOFFSETTO:-0400
TZNAME:EDT
DTSTART:20240310T070000
END:DAYLIGHT
BEGIN:STANDARD
TZOFFSETFROM:-0400
TZOFFSETTO:-0500
TZNAME:EST
DTSTART:20241103T060000
END:STANDARD
BEGIN:DAYLIGHT
TZOFFSETFROM:-0500
TZOFFSETTO:-0400
TZNAME:EDT
DTSTART:20250309T070000
END:DAYLIGHT
BEGIN:STANDARD
TZOFFSETFROM:-0400
TZOFFSETTO:-0500
TZNAME:EST
DTSTART:20251102T060000
END:STANDARD
BEGIN:DAYLIGHT
TZOFFSETFROM:-0500
TZOFFSETTO:-0400
TZNAME:EDT
DTSTART:20260308T070000
END:DAYLIGHT
BEGIN:STANDARD
TZOFFSETFROM:-0400
TZOFFSETTO:-0500
TZNAME:EST
DTSTART:20261101T060000
END:STANDARD
END:VTIMEZONE
BEGIN:VEVENT
DTSTART;TZID=America/New_York:20251018T084500
DTEND;TZID=America/New_York:20251018T120000
DTSTAMP:20260422T030421
CREATED:20250916T142715Z
LAST-MODIFIED:20250916T144525Z
UID:10000581-1760777100-1760788800@stemteachersnyc.org
SUMMARY:A Bird Walk in Central Park for Teachers: Enjoy the fall migration!
DESCRIPTION:During the Fall Migration\, a huge variety of birds stop in Central Park to rest and refuel for their journey South!\n\n\nKEY INFORMATION\n\nDate/Time: Saturday\, October 18\, from 8:45am – 12:00pm.\n(RAINDATE: Sunday\, October 19\, from 8:45am – 12:00pm)\nLocation: Within Central Park in Manhattan\, meeting at 103rd and Central Park West at the pedestrian park entrance\nWorkshop Leader: Peter Davenport (bio below)\nAppropriate for: Current/retired teachers\, educators\, administrators for any grade level.\n3hrs of CTLE credit offered\n\n  \n  \nWORKSHOP DESCRIPTION\nCalling all teachers who love birding! We invite you to join us for a morning walk in Manhattan’s Central Park\, an urban oasis for birds as well as people. Each fall\, Central Park becomes a global birding hot spot! Thousands of colorful songbirds migrating from the tropics stop in the park each day in April\, May and early June to refuel on insects before continuing north toward their breeding grounds. \nTake a leisurely walk with us through the north end of the park. While there is never a guarantee of what we will see\, expect to see flycatchers\, warblers\, thrushes\, raptors and more\, and we will search for rarities amongst them. Learn about beahviors and how to use guides\, apps\, and your eyes and ears to identify the birds we’ll see. Rain or shine the birds will be in the park\, but if it’s raining too much we will postpone. Bring walking footwear\, binoculars\, a camera with a good telephoto lens if you have one\, and water (/coffee). After an introduction\, including slides and other classroom-friendly materials\, we will start walking and watching. Don’t be late! We will set out 9:00am sharp. \nNOTE: This is a fully outdoor event. We will pass bathrooms along the way\, but please dress appropriately\, wear sunscreen and a hat\, and bring water and a snack as needed. Please do NOT bring your dog\, as that may scare birds away. Central Park has accessible bathrooms and paths\, but those paths may be uneven at times. \n  \nWORKSHOP LEADER\nPeter Davenport is a Board member of the 150-year old science-based birding group\, the Linnaean Society of New York\, and he has taught middle school science in the Bronx for 12 years. Formerly\, he developed and led outdoor programs at Walden Pond in Concord\, Mass.\, and for the Appalachian Mountain Club in Pinkham Notch\, N.H. \n  \nABOUT STEMteachersNYC\nSince 2011\, STEMteachersNYC has delivered professional development workshops for teachers\, by teachers\, about teaching. We are an approved CTLE and NYCPS MTAC vendor. All workshops over 2hrs offer CTLE. Below is some important information\, but please see our official Registration FAQ on our website for full details and policies. \nPricing: workshop/event pricing reflects a desire to offer affordable professional learning experiences. Some workshops are subsidized and offered at a discount or for free. \nCUNY & other partner campus pre-service students: If you are training to be a teacher\, we want to welcome you to attend our workshops for free! Please email registration@stemteachersnyc.org for details and to see if you qualify. \nWant to pay by invoice or purchase order? We encourage you to ask your school or organization if this is a possibility. Please see the Registration FAQ for the process. \nAre there discounts available? Often\, yes! In the summers\, we offer Early Bird and Teacher discounts alongside a Full Price ticket meant for those whose school or organization is funding their ticket. In the summer\, we also have full scholarships\, and a Fellowship available. All year\, we announce specials and discounts on our social media (@STEMteachersNYC on Instagram\, LinkedIn\, Bluesky\, and Facebook)\, and in our Weekly Newsletter – sign up here. Additionally\, we partner with several organizations and CUNY to offer free tickets to teachers and pre-service teachers involved\, and if at any time price is a barrier to you purchasing a ticket\, please contact us at registration@STEMteachersNYC.org \nRefunds\, cancellations\, and other registration/ticketing policies or changes: Please see the full Registration FAQ for details and policies. \nPlease note: We take screenshots\, photographs and record video of our workshops in order to publicize a positive image of science teaching\, and of STEMteachersNYC – a recognized 501(c)(3) non-profit organization – and to support future teacher leaders. If you register\, you are agreeing to be photographed and to have your voice and image video-recorded. You are also agreeing to relinquish all your rights to the photographs and video recordings. \nIf you do not wish to be photographed or video-recorded – you must inform us before the workshop starts. For in-person workshops\, we will take one photograph of your face so that we can erase your image if we happen to catch it by chance during the workshop\, and we will do our best to avoid you. We would also appreciate your cooperation in positioning yourself at the edge of the group so as to help us avoid you. \nHave questions?Please see the full Registration FAQ for further details\, or contact us directly: \n\nRegistration or ticketing questions – registration@STEMteachersNYC.org\nQuestions about invoice/PO issues – bookkeeper@STEMteachersNYC.org\nAny other questions – info@STEMteachersNYC.org
URL:https://stemteachersnyc.org/event/a-bird-walk-in-central-park-for-teachers-enjoy-the-fall-migration/
LOCATION:Central Park West & West 103rd Street\, Central Park West & West 103rd Street\, New York\, NY\, 10025\, United States
CATEGORIES:All Grades,ClimateSTEM,Featured,Upcoming Events
ATTACH;FMTTYPE=image/jpeg:https://stemteachersnyc.org/wp-content/uploads/2025/09/https___cdn.evbuc_.com_images_1118894693_2662952029601_1_original.jpeg
END:VEVENT
BEGIN:VEVENT
DTSTART;TZID=America/New_York:20250510T084500
DTEND;TZID=America/New_York:20250510T120000
DTSTAMP:20260422T030421
CREATED:20250417T133709Z
LAST-MODIFIED:20250417T133709Z
UID:10000571-1746866700-1746878400@stemteachersnyc.org
SUMMARY:A Bird Walk in Central Park for Teachers: Enjoy the spring migration! (ALL)
DESCRIPTION:During the Spring Migration\, a huge variety of birds stop in Central Park to rest and refuel for their journey North!\n\n\nDate/Time: Saturday\, May 10\, from 8:45am – 12:00pm.Location: Meet at 103rd and Central Park West at the pedestrian entrance to the park.Workshop Leaders: Peter Davenport & Fernand BrunschwigCTLE credit offered \n \nWorkshop Description\nCalling all teachers who love birding! On World Migratory Bird Day\, we invite you to join us for a morning walk in Manhattan’s Central Park\, an urban oasis for birds as well as people. Each spring\, Central Park becomes a global birding hot spot! Thousands of colorful songbirds migrating from the tropics stop in the park each day in April\, May and early June to refuel on insects before continuing north toward their breeding grounds. \nTake a leisurely walk with us through the north end of the park. While there is never a guarantee of what we will see\, expect to see flycatchers\, warblers\, thrushes\, raptors and more\, and we will search for rarities amongst them. Learn about beahviors and how to use guides\, apps\, and your eyes and ears to identify the birds we’ll see. Rain of shine the birds will be in the park\, but if it’s raining too much we will postpone. Bring walking footwear\, binoculars\, a camera with a good telephoto lens if you have one\, and water (and coffee). After an introduction\, including slides and other classroom-friendly materials\, we will start walking and watching. Don’t be late! We will set out 9:00am sharp. \nNOTE: This is a fully outdoor event. We will pass bathrooms along the way\, but please dress appropriately\, wear sunscreen and a hat\, and bring water and a snack as needed. Please do NOT bring your dog\, as that may scare birds away. Central Park has accessible bathrooms and paths\, but the paths may be uneven at times. \nRAINDATE: Saturday\, May 17. We will confirm with attendees closer to the date. \n \nSTEMteachersNYC\nSince 2011\, STEMteachersNYC has delivered professional development workshops for teachers\, by teachers\, about teaching. All workshops over 2hrs offer CTLE. CUNY Pre-service teachers may attend for free. See our website for much more information and full workshop listings – https://stemteachersnyc.org/ \n \nCurrent CUNY students with valid ID may attend summer workshops at a discount or for FREE! Please email registration@stemteachersnyc.org for details. \nEmail general questions to Registration@STEMteachersNYC.org. Note this workshop requires a minimum number of participants. In the event there are not enough participants\, the workshop will be cancelled\, and a refund will be issued. \n \nInterested in an Invoice/Purchase Order Request?Teachers! Ask your school to pay for your ticket! All the school needs to do is send us a Purchase Order (PO). Fill out our PO/Invoice survey and we will prepare you an invoice for you to submit to your school/district. Or just copy and paste the information above and let them know the workshop you want to attend. Don’t be afraid to ask. There’s always a chance the money will be available and they’ll say yes\, but if you don’t ask\, there’s no chance at all. \nDistricts/Schools\, to request an invoice for a STEMteachersNYC Workshop\, please fill out a quick invoice survey. This is a required step in order to process your request. Any questions regarding the PO process please contact bookkeeper@stemteachersnyc.org \n \nPlease send Purchase Orders (POs) to our Billing OfficePlease reach out if your school requires an invoice. We are an NYCDOE MTAC Vendor.Via Email: bookkeeper@stemteachersnyc.org \nOR Via US Mail: STEMteachersNYC – Billing Office 245 West 107th Street\, Suite 10B New York\, NY 10025. \n \nFAQs\nIs STEMteachersNYC an approved NYC DOE CTLE Vendor?Yes. STEMteachersNYC is a Continuing Teacher and Leader Education (CTLE) vendor for the New York City Department of Education (#STE-068881). New York State Teachers will receive a CTLE certificate at the end of the workshop. (CTLE ID # 23385) \n \nHow can I contact the organizer with any questions?Questions about registration or tickets should be addressed to registration@STEMteachersNYC.org. \nQuestions about invoice/PO issues should be addressed to bookkeeper@STEMteachersNYC.org \nQuestions about our programs should be addressed to info@STEMteachersNYC.org \n \nIs the full workshop fee or the balance of the workshop fee refundable?Refunds for the balance of the full workshop fee (that is\, the full fee minus the reservation fee) must be requested within one (1) week of payment and at least four (4) weeks before the start of the workshop. All such requests must be accompanied by an acceptable\, documented explanation. Judgments about acceptability of explanations and documentation\, and about whether or not a refund will be issued are at the sole discretion of STEMteachersNYC and are final. Refunds will not include fees charged on the initial payment by Eventbrite\, credit cards\, and/or banks. \n \nIs my reservation/ticket transferrable?If your school or organization has made the ticket purchase for you\, your credit may be transferable to a school or organization colleague. \nAuthorization from our team will be required. Please contact the STEMteachersNYC Registrar (Registration@STEMteachersNYC.org) if you need to transfer your reservation to a different person/name\, or if you wish to transfer your reservation to a different workshop. \n \nCan I update my reservation information?Yes\, you can update your reservation information. \n \nThe name on the reservation/ticket doesn’t match the attendee. Is that okay? \nNo\, please contact the STEMteachersNYC Registrar (Registration@STEMteachersNYC.org) to address this. \n \nCan I receive college level credits?Pre-service teachers whose college is participating in our “field-site hours” program will recieve filed site hours or credit depending on that institution’s partnership agreement. Please make sure to include your faculty advisor or course professor’s name and contact when registering. \nFor more information about either of these\, please contact info@stemteachersnyc.org. \n \nWhere can I find more information about STEMteachersNYC?Visit our website: http://STEMTeachersNYC.org or email info@stemteachersnyc.org \n \nHow can I join STEMteachersNYC?Click here – it’s free! http://stemteachersnyc.org/join/Members find out about workshops first and can sign up before others. \n \nPlease note: We take screenshots\, photographs and record video of our workshops in order to publicize a positive image of science teaching\, and of STEMteachersNYC – a recognized 501(c)(3) non-profit organization – and to support future teacher leaders. If you register\, you are agreeing to be photographed and to have your voice and image video-recorded. You are also agreeing to relinquish all your rights to the photographs and video recordings. \nIf you do not wish to be photographed or video-recorded – you must inform us before the workshop starts. For in-person workshops\, we will take one photograph of your face so that we can erase your image if we happen to catch it by chance during the workshop\, and we will do our best to avoid you. We would also appreciate your cooperation in positioning yourself at the edge of the group so as to help us avoid you.
URL:https://stemteachersnyc.org/event/a-bird-walk-in-central-park-for-teachers-enjoy-the-spring-migration-all/
LOCATION:Central Park West & West 103rd Street\, Central Park West & West 103rd Street\, New York\, NY\, 10025\, United States
ATTACH;FMTTYPE=image/jpeg:https://stemteachersnyc.org/wp-content/uploads/2025/04/baa39ee63b7aef68a0c6017c5e133f25.jpg
END:VEVENT
END:VCALENDAR