BEGIN:VCALENDAR
VERSION:2.0
PRODID:-//STEMteachersNYC - ECPv6.15.20//NONSGML v1.0//EN
CALSCALE:GREGORIAN
METHOD:PUBLISH
X-ORIGINAL-URL:https://stemteachersnyc.org
X-WR-CALDESC:Events for STEMteachersNYC
REFRESH-INTERVAL;VALUE=DURATION:PT1H
X-Robots-Tag:noindex
X-PUBLISHED-TTL:PT1H
BEGIN:VTIMEZONE
TZID:America/New_York
BEGIN:DAYLIGHT
TZOFFSETFROM:-0500
TZOFFSETTO:-0400
TZNAME:EDT
DTSTART:20210314T070000
END:DAYLIGHT
BEGIN:STANDARD
TZOFFSETFROM:-0400
TZOFFSETTO:-0500
TZNAME:EST
DTSTART:20211107T060000
END:STANDARD
BEGIN:DAYLIGHT
TZOFFSETFROM:-0500
TZOFFSETTO:-0400
TZNAME:EDT
DTSTART:20220313T070000
END:DAYLIGHT
BEGIN:STANDARD
TZOFFSETFROM:-0400
TZOFFSETTO:-0500
TZNAME:EST
DTSTART:20221106T060000
END:STANDARD
BEGIN:DAYLIGHT
TZOFFSETFROM:-0500
TZOFFSETTO:-0400
TZNAME:EDT
DTSTART:20230312T070000
END:DAYLIGHT
BEGIN:STANDARD
TZOFFSETFROM:-0400
TZOFFSETTO:-0500
TZNAME:EST
DTSTART:20231105T060000
END:STANDARD
BEGIN:DAYLIGHT
TZOFFSETFROM:-0500
TZOFFSETTO:-0400
TZNAME:EDT
DTSTART:20240310T070000
END:DAYLIGHT
BEGIN:STANDARD
TZOFFSETFROM:-0400
TZOFFSETTO:-0500
TZNAME:EST
DTSTART:20241103T060000
END:STANDARD
END:VTIMEZONE
BEGIN:VEVENT
DTSTART;TZID=America/New_York:20230429T073000
DTEND;TZID=America/New_York:20230429T113000
DTSTAMP:20260422T024952
CREATED:20230215T133143Z
LAST-MODIFIED:20230215T145123Z
UID:10000041-1682753400-1682767800@stemteachersnyc.org
SUMMARY:A Bird Walk in Central Park: Come enjoy the spring migration! (ALL)
DESCRIPTION:During the Spring Migration\, a huge variety of birds stop in Central Park to rest and refuel for their journey North!\n\n\nLeaders: Peter Davenport and Fernand Brunschwig \nFormat and Dates: One 3.5 Hour Session\, 4/29/2023 (7:30-11:30am EDT – in person) \nWorkshops in our ClimateSTEM Series are made possible with support from ConEd. \nGroup Meets at 103rd Street & Central Park West \nDescription: Central Park is an urban oasis for birds as well as people. In spring\, Central Park becomes a global birding hot-spot. Thousands of colorful songbirds migrating from the tropics stop in the park each day in April\, May and early June to refuel on insects before continuing north toward their breeding grounds. Join us for a walk through the north end of the park to learn how to identify these birds—flycatchers\, warblers\, thrushes\, raptors and more—and search for rarities. Learn how to identify the birds and find out about their behavior. Bring walking footwear and binoculars and/or a camera with a good telephoto lens. Don’t be late—We will start walking at 7:45 am sharp. \nIncludes slides and other classroom-friendly resources! \n  \nCost:  $50 Stipends for first 8 teachers; free to all others (Limited # of tickets!) \nThe first eight teacher-participants to sign up will receive a stipend of $50 for this workshop! Free to all other attendees. Participants receiving stipends will be asked to provide feedback in addition to our exit ticket\, at the end of the workshop. Our ClimateSTEM Series is supported by ConEd. \nSTEMteachersNYC delivers professional development workshops for teachers\, by teachers\, about teaching\, since 2011. All workshops over 2hrs offer CTLE. CUNY Pre-service teachers may attend for free; Brooklyn College Pre-service teachers receive Field Site hours. Please reach out if your school requires an invoice. We are an NYCDOE MTAC Vendor. \n  \nCurrent CUNY students with valid ID may attend workshops at a discount or for FREE! Please email preservice@stemteachersnyc.org for details. \nEmail general questions to Registration@STEMteachersNYC.org. Note this workshop requires a minimum number of participants. In the event there are not enough participants\, the workshop will be cancelled\, and a refund will be issued. \n  \nInterested in an Invoice/Purchase Order Request? \nTeachers! Ask your school to pay for your ticket! All the school needs to do is send us a Purchase Order (PO). Fill out our PO/Invoice survey and we will prepare you an invoice for you to submit to your school/district. Or just copy and paste the information above and let them know the workshop you want to attend. Don’t be afraid to ask. There’s always a chance the money will be available and they’ll say yes\, but if you don’t ask\, there’s no chance at all. \nDistricts/Schools\, to request an invoice for a STEMteachersNYC Workshop\, please fill out a quick invoice survey. This is a required step in order to process your request. Any questions regarding the PO process please contact bookkeeper@stemteachersnyc.org \nPlease send Purchase Orders (POs) to our Billing Office \nVia Email: bookkeeper@stemteachersnyc.org \nOR Via US Mail: STEMteachersNYC – Billing Office 245 West 107th Street\, Suite 10B New York\, NY 10025. \n  \nPlease read the FAQs section below carefully before registering. \n  \nFAQs \nIs STEMteachersNYC an approved NYC DOE CTLE Vendor? \nYes. STEMteachersNYC is a Continuing Teacher and Leader Education (CTLE) vendor for the New York City Department of Education (#STE-068881). New York State Teachers will receive a CTLE certificate at the end of the workshop.  (CTLE ID # 23385) \n  \nHow can I contact the organizer with any questions? \nQuestions about registration or tickets should be addressed to registration@STEMteachersNYC.org. \nQuestions about invoice/PO issues should be addressed to bookkeeper@STEMteachersNYC.org \nQuestions about our programs should be addressed to info@STEMteachersNYC.org \n  \nIs the full workshop fee or the balance of the workshop fee refundable?  \nRefunds for the balance of the full workshop fee (that is\, the full fee minus the reservation fee) must be requested within one (1) week of payment and at least four (4) weeks before the start of the workshop. All such requests must be accompanied by an acceptable\, documented explanation. Judgments about acceptability of explanations and documentation\, and about whether or not a refund will be issued are at the sole discretion of STEMteachersNYC and are final. Refunds will not include fees charged on the initial payment by Eventbrite\, credit cards\, and/or banks. \n  \nIs my reservation/ticket transferrable? \nIf your school or organization has made the ticket purchase for you\, your credit may be transferable to a school or organization colleague. \nAuthorization from our team will be required. Please contact the STEMteachersNYC Registrar (Registration@STEMteachersNYC.org) if you need to transfer your reservation to a different person/name\, or if you wish to transfer your reservation to a different workshop. \n  \nCan I update my reservation information? \nYes\, you can update your reservation information. \n  \nThe name on the reservation/ticket doesn’t match the attendee. Is that okay? \nNo\, please contact the STEMteachersNYC Registrar (Registration@STEMteachersNYC.org) to address this. \n  \nCan I receive college level credits? \nIn-service teachers will receive CTLE hours. \nPre-service teachers whose college is participating in our “field-site hours” program will recieve field site hours or credit depending on that institution’s partnership agreement. Please make sure to include your faculty advisor or course professor’s name and contact when registering. \nFor more information about either of these\, please contact info@stemteachersnyc.org. \n  \nWhere can I find more information about STEMteachersNYC?  \nVisit our website: http://STEMTeachersNYC.org or email info@stemteachersnyc.org \n  \nHow can I join STEMteachersNYC? \nClick here – it’s free! http://stemteachersnyc.org/join/ \nMembers find out about workshops first and can sign up before others. \n  \nPlease note: We take screenshots\, photographs and record video of our workshops in order to publicize a positive image of science teaching\, and of STEMteachersNYC – a recognized 501(c)(3) non-profit organization – and to support future teacher leaders. If you register\, you are agreeing to be photographed and to have your voice and image video-recorded. You are also agreeing to relinquish all your rights to the photographs and video recordings. \nIf you do not wish to be photographed or video-recorded – you must inform us before the workshop starts. For in-person workshops\, we will take one photograph of your face so that we can erase your image if we happen to catch it by chance during the workshop\, and we will do our best to avoid you. We would also appreciate your cooperation in positioning yourself at the edge of the group so as to help us avoid you.
URL:https://stemteachersnyc.org/event/a-bird-walk-in-central-park-come-enjoy-the-spring-migration-all/
LOCATION:Central Park\, 103rd Street and Central Park West\, New York\, NY\, 10025\, United States
CATEGORIES:All Grades,ClimateSTEM,Elementary School,High School,Middle School,Upcoming Events
ATTACH;FMTTYPE=image/jpeg:https://stemteachersnyc.org/wp-content/uploads/2023/02/84ef28143275271dcb748d3be44eaebe.jpg
END:VEVENT
BEGIN:VEVENT
DTSTART;TZID=America/New_York:20221008T073000
DTEND;TZID=America/New_York:20221008T113000
DTSTAMP:20260422T024952
CREATED:20220919T134743Z
LAST-MODIFIED:20230210T132213Z
UID:10000015-1665214200-1665228600@stemteachersnyc.org
SUMMARY:A Bird Walk in Central Park: Come enjoy the fall migration!
DESCRIPTION:During the Fall Migration\, a huge variety of birds stop in Central Park to rest and refuel for their journey South! \n\n\n\nLeaders: Peter Davenport and Fernand Brunschwig \n\n\n\nFormat and Dates: One 3.5 Hour Session\, 10/8/2022 (7:30-11:30am EDT – raindate Sunday Oct 9) \n\n\n\nGroup Meets at 103rd Street & Central Park West \n\n\n\nDescription: Central Park is an urban oasis for birds as well as people. During the fall\, a variety of birds stop in Central Park to rest and refuel during their migration south\, while others make it their temporary home. Join us for a walk through the north end of the park to learn about some of the “snow birds” and winter residents—sparrows\, finches\, sapsuckers\, waterfowl\, blackbirds\, raptors—and search for late migrants and rarities such as warblers\, flycatchers\, shorebirds\, owls and more. Learn how to identify the birds and find out about their behavior. Bring walking footwear and binoculars and/or a camera with a good telephoto lens. Don’t be late—We will start walking at 7:45 am sharp. \n\n\n\nIncludes slides and other classroom-friendly resources!
URL:https://stemteachersnyc.org/event/a-bird-walk-in-central-park-come-enjoy-the-fall-migration/
LOCATION:Central Park\, 103rd Street and Central Park West\, New York\, NY\, 10025\, United States
CATEGORIES:All Grades,ClimateSTEM,Elementary School,High School,Middle School,Upcoming Events
ATTACH;FMTTYPE=image/png:https://stemteachersnyc.org/wp-content/uploads/2022/09/Climate-Models-Data-Part-1-Visualizing-Climate-Projections-HS-3.png
END:VEVENT
END:VCALENDAR