BEGIN:VCALENDAR
VERSION:2.0
PRODID:-//STEMteachersNYC - ECPv6.15.20//NONSGML v1.0//EN
CALSCALE:GREGORIAN
METHOD:PUBLISH
X-WR-CALNAME:STEMteachersNYC
X-ORIGINAL-URL:https://stemteachersnyc.org
X-WR-CALDESC:Events for STEMteachersNYC
REFRESH-INTERVAL;VALUE=DURATION:PT1H
X-Robots-Tag:noindex
X-PUBLISHED-TTL:PT1H
BEGIN:VTIMEZONE
TZID:America/New_York
BEGIN:DAYLIGHT
TZOFFSETFROM:-0500
TZOFFSETTO:-0400
TZNAME:EDT
DTSTART:20220313T070000
END:DAYLIGHT
BEGIN:STANDARD
TZOFFSETFROM:-0400
TZOFFSETTO:-0500
TZNAME:EST
DTSTART:20221106T060000
END:STANDARD
BEGIN:DAYLIGHT
TZOFFSETFROM:-0500
TZOFFSETTO:-0400
TZNAME:EDT
DTSTART:20230312T070000
END:DAYLIGHT
BEGIN:STANDARD
TZOFFSETFROM:-0400
TZOFFSETTO:-0500
TZNAME:EST
DTSTART:20231105T060000
END:STANDARD
BEGIN:DAYLIGHT
TZOFFSETFROM:-0500
TZOFFSETTO:-0400
TZNAME:EDT
DTSTART:20240310T070000
END:DAYLIGHT
BEGIN:STANDARD
TZOFFSETFROM:-0400
TZOFFSETTO:-0500
TZNAME:EST
DTSTART:20241103T060000
END:STANDARD
END:VTIMEZONE
BEGIN:VEVENT
DTSTART;TZID=America/New_York:20231021T090000
DTEND;TZID=America/New_York:20231021T120000
DTSTAMP:20260422T043531
CREATED:20231012T181940Z
LAST-MODIFIED:20231013T122900Z
UID:10000511-1697878800-1697889600@stemteachersnyc.org
SUMMARY:Using Molecular Modeling to Empower K-12 Science Teachers and Learners
DESCRIPTION:Empowering science teachers and learners through molecular modeling!\n\n\nUsing Molecular Modeling to Empower K-12 Science Teachers & Learners \nLed by Dr. Dan Fried\, Oct 21\, 2023 @DNA Learning Center\, 62 Tillary St\, Brooklyn \nEmpowering science teachers and learners through molecular modeling! \nIn this introductory workshop\, participants learn how molecular modeling can be used to easily enhance elementary and junior high chemistry and biology instruction. The goal of the workshop is to provide teachers with exciting age-appropriate activities and materials that can open the world of biochemistry to students of all ages. We will create models using a custom molecular modeling kit\, and a FREE 3D molecular modeling software to explore molecular bonding\, chemical reactions\, and larger molecules like enzymes\, DNA\, and RNA. The activities will enhance teacher confidence and outline new and unique ways to engage with your students. Instruction will be led by Dr. Daniel Fried\, a New Jersey based teacher and former chemistry professor. Workshop activities will draw from his Biochemistry Literacy for Kids program\, which has been implemented by dozens of schools\, and over 2000 home school families around the world. For more information on the methodology\, see the program’s website: https://biochemistryliteracyforkids.com/
URL:https://stemteachersnyc.org/event/using-molecular-modeling-to-empower-k-12-science-teachers-and-learners/
LOCATION:DNA Learning Center\, 62 Tillary Street\, Brooklyn\, NY\, 11201\, United States
CATEGORIES:All Grades,Upcoming Events
ATTACH;FMTTYPE=image/jpeg:https://stemteachersnyc.org/wp-content/uploads/2023/10/362ca8b06169c2d57a09dce7b92af9bb.jpg
END:VEVENT
END:VCALENDAR