BEGIN:VCALENDAR
VERSION:2.0
PRODID:-//STEMteachersNYC - ECPv6.15.20//NONSGML v1.0//EN
CALSCALE:GREGORIAN
METHOD:PUBLISH
X-WR-CALNAME:STEMteachersNYC
X-ORIGINAL-URL:https://stemteachersnyc.org
X-WR-CALDESC:Events for STEMteachersNYC
REFRESH-INTERVAL;VALUE=DURATION:PT1H
X-Robots-Tag:noindex
X-PUBLISHED-TTL:PT1H
BEGIN:VTIMEZONE
TZID:America/New_York
BEGIN:DAYLIGHT
TZOFFSETFROM:-0500
TZOFFSETTO:-0400
TZNAME:EDT
DTSTART:20220313T070000
END:DAYLIGHT
BEGIN:STANDARD
TZOFFSETFROM:-0400
TZOFFSETTO:-0500
TZNAME:EST
DTSTART:20221106T060000
END:STANDARD
BEGIN:DAYLIGHT
TZOFFSETFROM:-0500
TZOFFSETTO:-0400
TZNAME:EDT
DTSTART:20230312T070000
END:DAYLIGHT
BEGIN:STANDARD
TZOFFSETFROM:-0400
TZOFFSETTO:-0500
TZNAME:EST
DTSTART:20231105T060000
END:STANDARD
BEGIN:DAYLIGHT
TZOFFSETFROM:-0500
TZOFFSETTO:-0400
TZNAME:EDT
DTSTART:20240310T070000
END:DAYLIGHT
BEGIN:STANDARD
TZOFFSETFROM:-0400
TZOFFSETTO:-0500
TZNAME:EST
DTSTART:20241103T060000
END:STANDARD
END:VTIMEZONE
BEGIN:VEVENT
DTSTART;TZID=America/New_York:20230402T100000
DTEND;TZID=America/New_York:20230402T130000
DTSTAMP:20260422T043639
CREATED:20230215T172102Z
LAST-MODIFIED:20230216T142607Z
UID:10000042-1680429600-1680440400@stemteachersnyc.org
SUMMARY:FREE - Sound Across the Curriculum - Project Based STEAM (3 Part Workshop)
DESCRIPTION:Join peers from across subjects & grades\, learn from UFS Artist in Residence Nikki Lindt\, & build your own piezo disc sound capturing tools!\n\n \n\nLeaders: Nikki Lindt \nDates: April 2\, 23\, and June 3or4\, 2023 (10:00am-1:00pm EDT\, in person. April 2 meets in Prospect Park\, Brooklyn). \nThe first eight teacher-participants to sign up will receive a stipend of $50 for this two hour workshop! Free to all other attendees. Workshops in our ClimateSTEM Series are made possible with support from ConEd. \nSound Across the Curriculum – Sensing Place/Sense of Place \nThis 3 Part Workshops on Outdoor Project Based STEAM was developed in collaboration with the NYC Parks Department Office of Teaching & Learning Services. \nCalling all STEM & STEAM-Curious Teachers! Join us for a FREE\, three-part\, in-person series that aims to give you and your students an oportunity to take your science and engineering lessons outside – and make intentional cross-curricular connections while we’re at it! This series will help you foster parks-based interdisciplinary teaching & learning in NYC by: \n\nIntroducing educators to alternative methods of parks-based research/data collection practiced by resident artist-researchers in the USFS/TNoC Arts Collaborative Program\nPartnering STEM and Humanities teachers to co-create parks-based learning experiences that can used by other educators as inspiration and/or instruction\nProviding the space and resources for educator teams to learn\, experiment\, and share with one together\nBuild awareness of/connection to educational and career path opportunities with K-12/secondary education community and NYC Parks\n\nTEACHERS OF ALL CONTENT AREAS & GRADES WELCOME! BRING A COLLEAGUE! Music\, Art\, ELA\, Librarians\, Maker\, STEM… all teachers welcome! \n \nSession 1/April 2: Learn (@Prospect Park\, rain or shine) \nIntroduction to the Underground Sound Project with artist Nikki Lindt! Learn how the project was developed\, how it has grown\, and experience it for yourself! \nCross-curricular collaborative team: Nikki Lindt\, Lindsay Campbell (USFS/Urban Field Station)\, and Robin Sanchez (NYC DEP). \nTool introductions: contact microphone\, hydrophone\, geophone. \nSession 2/April 23: Make (@Makerspace in Manhattan) \nTinkering introduction to Nikki’s tools\, participants build 3 different versions and test them out. \nOptional follow-up: troubleshooting\, re-making\, classroom progress session. \nSession 3/June 3or4: Share (Location & date TBD) \nReconvene participants and researchers for show and tell! This will be an in-person session\, ideally with a parallel virtual Google Site Gallery of student work. We will celebrate\, debrief\, and discuss the value of a collaborative art-sound-science project as a central node for outdoor project based learning! \n \nCost: Attendance will be capped at 16 participants. All participants who attend all 3 sessions receive a $100 stipend. We will maintain a waitlist for all sessions. You must participate to receive a stipend – if you register but do not attend\, the stipend will be given to the next registrant-attendee. Participants receiving stipends will be asked to provide feedback in addition to our exit ticket\, at the end of the workshop. Our ClimateSTEM Series is supported by ConEd. \nSTEMteachersNYC delivers professional development workshops for teachers\, by teachers\, about teaching\, since 2011. All workshops over 2hrs offer CTLE. CUNY Pre-service teachers may attend for free; Brooklyn College Pre-service teachers receive Field Site hours. Please reach out if your school requires an invoice. We are an NYCDOE MTAC Vendor. \n \nCurrent CUNY students with valid ID may attend workshops at a discount or for FREE! Please email preservice@stemteachersnyc.org for details. \nEmail general questions to Registration@STEMteachersNYC.org. Note this workshop requires a minimum number of participants. In the event there are not enough participants\, the workshop will be cancelled\, and a refund will be issued. \n \nInterested in an Invoice/Purchase Order Request? \nTeachers! Ask your school to pay for your ticket! All the school needs to do is send us a Purchase Order (PO). Fill out our PO/Invoice survey and we will prepare you an invoice for you to submit to your school/district. Or just copy and paste the information above and let them know the workshop you want to attend. Don’t be afraid to ask. There’s always a chance the money will be available and they’ll say yes\, but if you don’t ask\, there’s no chance at all. \nDistricts/Schools\, to request an invoice for a STEMteachersNYC Workshop\, please fill out a quick invoice survey. This is a required step in order to process your request. Any questions regarding the PO process please contact bookkeeper@stemteachersnyc.org \nPlease send Purchase Orders (POs) to our Billing Office \nVia Email: bookkeeper@stemteachersnyc.org \nOR Via US Mail: STEMteachersNYC – Billing Office 245 West 107th Street\, Suite 10B New York\, NY 10025. \n \nPlease read the FAQs section below carefully before registering. \n \nFAQs \nIs STEMteachersNYC an approved NYC DOE CTLE Vendor? \nYes. STEMteachersNYC is a Continuing Teacher and Leader Education (CTLE) vendor for the New York City Department of Education (#STE-068881). New York State Teachers will receive a CTLE certificate at the end of the workshop.  (CTLE ID # 23385) \n \nHow can I contact the organizer with any questions? \nQuestions about registration or tickets should be addressed to registration@STEMteachersNYC.org. \nQuestions about invoice/PO issues should be addressed to bookkeeper@STEMteachersNYC.org \nQuestions about our programs should be addressed to info@STEMteachersNYC.org \n \nIs the full workshop fee or the balance of the workshop fee refundable?  \nRefunds for the balance of the full workshop fee (that is\, the full fee minus the reservation fee) must be requested within one (1) week of payment and at least four (4) weeks before the start of the workshop. All such requests must be accompanied by an acceptable\, documented explanation. Judgments about acceptability of explanations and documentation\, and about whether or not a refund will be issued are at the sole discretion of STEMteachersNYC and are final. Refunds will not include fees charged on the initial payment by Eventbrite\, credit cards\, and/or banks. \n \nIs my reservation/ticket transferrable? \nIf your school or organization has made the ticket purchase for you\, your credit may be transferable to a school or organization colleague. \nAuthorization from our team will be required. Please contact the STEMteachersNYC Registrar (Registration@STEMteachersNYC.org) if you need to transfer your reservation to a different person/name\, or if you wish to transfer your reservation to a different workshop. \n \nCan I update my reservation information? \nYes\, you can update your reservation information. \n \nThe name on the reservation/ticket doesn’t match the attendee. Is that okay? \nNo\, please contact the STEMteachersNYC Registrar (Registration@STEMteachersNYC.org) to address this. \n \nCan I receive college level credits? \nIn-service teachers will receive CTLE hours. \nPre-service teachers whose college is participating in our “field-site hours” program will recieve field site hours or credit depending on that institution’s partnership agreement. Please make sure to include your faculty advisor or course professor’s name and contact when registering. \nFor more information about either of these\, please contact info@stemteachersnyc.org. \n \nWhere can I find more information about STEMteachersNYC?  \nVisit our website: http://STEMTeachersNYC.org or email info@stemteachersnyc.org \n \nHow can I join STEMteachersNYC? \nClick here – it’s free! http://stemteachersnyc.org/join/ \nMembers find out about workshops first and can sign up before others. \n \nPlease note: We take screenshots\, photographs and record video of our workshops in order to publicize a positive image of science teaching\, and of STEMteachersNYC – a recognized 501(c)(3) non-profit organization – and to support future teacher leaders. If you register\, you are agreeing to be photographed and to have your voice and image video-recorded. You are also agreeing to relinquish all your rights to the photographs and video recordings. \nIf you do not wish to be photographed or video-recorded – you must inform us before the workshop starts. For in-person workshops\, we will take one photograph of your face so that we can erase your image if we happen to catch it by chance during the workshop\, and we will do our best to avoid you. We would also appreciate your cooperation in positioning yourself at the edge of the group so as to help us avoid you.
URL:https://stemteachersnyc.org/event/free-sound-across-the-curriculum-project-based-steam-3-part-workshop/
LOCATION:Prospect Park Brooklyn\, 10 Grand Army Plaza\, Brooklyn\, NY\, 11238\, United States
CATEGORIES:All Grades,Elementary School,High School,Middle School,Upcoming Events
ATTACH;FMTTYPE=image/png:https://stemteachersnyc.org/wp-content/uploads/2023/02/dfffsfClimate-Models-Data-Part-1-Visualizing-Climate-Projections-HS.png
END:VEVENT
END:VCALENDAR