BEGIN:VCALENDAR
VERSION:2.0
PRODID:-//STEMteachersNYC - ECPv6.15.20//NONSGML v1.0//EN
CALSCALE:GREGORIAN
METHOD:PUBLISH
X-WR-CALNAME:STEMteachersNYC
X-ORIGINAL-URL:https://stemteachersnyc.org
X-WR-CALDESC:Events for STEMteachersNYC
REFRESH-INTERVAL;VALUE=DURATION:PT1H
X-Robots-Tag:noindex
X-PUBLISHED-TTL:PT1H
BEGIN:VTIMEZONE
TZID:America/New_York
BEGIN:DAYLIGHT
TZOFFSETFROM:-0500
TZOFFSETTO:-0400
TZNAME:EDT
DTSTART:20210314T070000
END:DAYLIGHT
BEGIN:STANDARD
TZOFFSETFROM:-0400
TZOFFSETTO:-0500
TZNAME:EST
DTSTART:20211107T060000
END:STANDARD
BEGIN:DAYLIGHT
TZOFFSETFROM:-0500
TZOFFSETTO:-0400
TZNAME:EDT
DTSTART:20220313T070000
END:DAYLIGHT
BEGIN:STANDARD
TZOFFSETFROM:-0400
TZOFFSETTO:-0500
TZNAME:EST
DTSTART:20221106T060000
END:STANDARD
BEGIN:DAYLIGHT
TZOFFSETFROM:-0500
TZOFFSETTO:-0400
TZNAME:EDT
DTSTART:20230312T070000
END:DAYLIGHT
BEGIN:STANDARD
TZOFFSETFROM:-0400
TZOFFSETTO:-0500
TZNAME:EST
DTSTART:20231105T060000
END:STANDARD
END:VTIMEZONE
BEGIN:VEVENT
DTSTART;TZID=America/New_York:20221022T100000
DTEND;TZID=America/New_York:20221022T140000
DTSTAMP:20260422T075808
CREATED:20220906T123929Z
LAST-MODIFIED:20221018T151020Z
UID:10000012-1666432800-1666447200@stemteachersnyc.org
SUMMARY:3D Modeling and 3D Printing for Teachers (ES/MS)
DESCRIPTION:Learn the essentials tools of Tinkercad and demystify 3D printing with this introductory workshop for teachers! \n\n\n\nLeaders: Josh Rothman \n\n\n\nDates: October 22\, 2022 (10:00-2:00pm at Skill Mill NYC); projects will be printed after Part 1 and Part 2 will run virtually Nov 5 or 6\, and focus on troubleshooting finished products. \n\n\n\nJoin us for an introductory workshop that walks you through the simple and powerful TInkercad 3D modeling software\, with multiple entry points for your classroom and students. We will go through essential tools step by step\, to help you work independently and gain the confidence to tackle common pitfalls. Explore many features outside of 3D modeling (simulated circuits\, block based coding)\, become familiar with the anatomy of a 3D printer\, and learn to love 3D printing! Internet browser based\, no download necessary!
URL:https://stemteachersnyc.org/event/3d-modeling-and-3d-printing-for-teachers-es-ms/
LOCATION:Skill Mill NYC\, 949 Amsterdam Avenue\, New York\, NY\, 10025\, United States
CATEGORIES:Elementary School,Middle School,TechSTEM,Upcoming Events
ATTACH;FMTTYPE=image/jpeg:https://stemteachersnyc.org/wp-content/uploads/2022/09/3ef71686ae5b2855d951578fc2d1db0c-1.jpg
END:VEVENT
END:VCALENDAR