BEGIN:VCALENDAR
VERSION:2.0
PRODID:-//STEMteachersNYC - ECPv6.15.20//NONSGML v1.0//EN
CALSCALE:GREGORIAN
METHOD:PUBLISH
X-ORIGINAL-URL:https://stemteachersnyc.org
X-WR-CALDESC:Events for STEMteachersNYC
REFRESH-INTERVAL;VALUE=DURATION:PT1H
X-Robots-Tag:noindex
X-PUBLISHED-TTL:PT1H
BEGIN:VTIMEZONE
TZID:America/New_York
BEGIN:DAYLIGHT
TZOFFSETFROM:-0500
TZOFFSETTO:-0400
TZNAME:EDT
DTSTART:20240310T070000
END:DAYLIGHT
BEGIN:STANDARD
TZOFFSETFROM:-0400
TZOFFSETTO:-0500
TZNAME:EST
DTSTART:20241103T060000
END:STANDARD
BEGIN:DAYLIGHT
TZOFFSETFROM:-0500
TZOFFSETTO:-0400
TZNAME:EDT
DTSTART:20250309T070000
END:DAYLIGHT
BEGIN:STANDARD
TZOFFSETFROM:-0400
TZOFFSETTO:-0500
TZNAME:EST
DTSTART:20251102T060000
END:STANDARD
BEGIN:DAYLIGHT
TZOFFSETFROM:-0500
TZOFFSETTO:-0400
TZNAME:EDT
DTSTART:20260308T070000
END:DAYLIGHT
BEGIN:STANDARD
TZOFFSETFROM:-0400
TZOFFSETTO:-0500
TZNAME:EST
DTSTART:20261101T060000
END:STANDARD
END:VTIMEZONE
BEGIN:VEVENT
DTSTART;TZID=America/New_York:20251122T100000
DTEND;TZID=America/New_York:20251122T133000
DTSTAMP:20260421T212508
CREATED:20251030T135504Z
LAST-MODIFIED:20251031T155443Z
UID:10000649-1763805600-1763818200@stemteachersnyc.org
SUMMARY:Harnessing AI for Science Educators
DESCRIPTION:Explore how you can integrate into\, and create AI tools for\, your classroom and meet members of STEMteachersNYC’s AI Working Group!\n\n\nKEY INFORMATION\n\nLOCATION: St. Francis College\, 179 Livingston St.\, Brooklyn\, NY\nDATE & TIME: Saturday\, November 22\, 2025\, 10:00am – 1:30pm including a working lunch\nLED BY: Tchnavia Merrick\, Allan Powe\, Brendan Harney\nCTLE HOURS AVAILABLE: 3.5hrs\nTHIS WORKSHOP IS FOR: K-16 teachers interested in incorporating and/or improving teacher-facing AI tools\n\nWORKSHOP DESCRIPTION\nDo you want to level up your AI skill set\, whether you are starting from scratch or you’ve got multiple iterations of your app working? This workshop will help you advance to your next level and discover how AI can solve real classroom challenges. \nWe will focus on teacher use cases starting with some basics like: what are the options? How do you design a prompt? How do you test and document what you’ve made? Join members of STEMteachersNYC’s Harnessing AI Working Group who will walk you through real examples of AI integration in STEM classrooms and get you logging in and using several of the available tools. This isn’t about replacing what makes you a great teacher\, it’s about amplifying it. \nNo tech expertise required. Just bring your curiosity\, a laptop\, your challenges\, and your commitment to meeting students where they are. Together\, we’ll demystify AI and transform it into your teaching superpower. Be ready to engage in this hands-on workshop and walk away with a fresh take on the rapidly changing AI landscape. \nWORKSHOP LEADERS\nAllan Powe (he/him) is a native New Yorker who teaches Biology at Regis High School in NYC\, bringing thirty years of scientific research experience and a passion for getting students excited about science. He previously taught Regents Chemistry and Biology for 3 years at Hyde Leadership Charter School and has worked with STEMteachersNYC to organize workshops and working groups on everything from biotechnology to AI in education. He’s passionate about mentoring the next generation of scientists from underrepresented communities. \nBrendan Harney is a science educator and department chair at the Bronx Lab School with 10 years of experience implementing project based curriculum across all science disciplines. He is always looking for ways to implement technology and new tools in his classroom\, and that has brought him into the STEMTeachersNYC AI Working group\, CIOB 25/26 AI Fellows\, and PlayLab 2025 Design Institute. Outside of the classroom\, he can be found literally outside either running or camping (with or without his students). \nTchnavia Merrick’s bio is coming soon. \nABOUT STEMteachersNYC\nSince 2011\, STEMteachersNYC has delivered professional development workshops for teachers\, by teachers\, about teaching. We are an approved CTLE and NYCPS MTAC vendor. All workshops over 2hrs offer CTLE. Below is some important information\, but please see our official Registration FAQ on our website for full details and policies. \nPricing: workshop/event pricing reflects a desire to offer affordable professional learning experiences. Some workshops are subsidized and offered at a discount or for free. \nCUNY & other partner campus pre-service students: If you are training to be a teacher\, we want to welcome you to attend our workshops for free! Please email registration@stemteachersnyc.org for details and to see if you qualify. \nWant to pay by invoice or purchase order? We encourage you to ask your school or organization if this is a possibility. Please see the Registration FAQ for the process. \nAre there discounts available? Often\, yes! In the summers\, we offer Early Bird and Teacher discounts alongside a Full Price ticket meant for those whose school or organization is funding their ticket. In the summer\, we also have full scholarships\, and a Fellowship available. All year\, we announce specials and discounts on our social media (@STEMteachersNYC on Instagram\, LinkedIn\, Bluesky\, and Facebook)\, and in our Weekly Newsletter – sign up here. Additionally\, we partner with several organizations and CUNY to offer free tickets to teachers and pre-service teachers involved\, and if at any time price is a barrier to you purchasing a ticket\, please contact us at registration@STEMteachersNYC.org \nRefunds\, cancellations\, and other registration/ticketing policies or changes: Please see the full Registration FAQ for details and policies. \nPlease note: We take screenshots\, photographs and record video of our workshops in order to publicize a positive image of science teaching\, and of STEMteachersNYC – a recognized 501(c)(3) non-profit organization – and to support future teacher leaders. If you register\, you are agreeing to be photographed and to have your voice and image video-recorded. You are also agreeing to relinquish all your rights to the photographs and video recordings. \nIf you do not wish to be photographed or video-recorded – you must inform us before the workshop starts. For in-person workshops\, we may take one photograph of your face so that we can erase your image if we happen to catch it by chance during the workshop\, and we will do our best to avoid you. \nHave more questions? Please see the full Registration FAQ for further details and policies\, or contact us directly: \n\nRegistration or ticketing questions – registration@STEMteachersNYC.org\nQuestions about invoice/PO issues – bookkeeper@STEMteachersNYC.org\nAny other questions – info@STEMteachersNYC.org
URL:https://stemteachersnyc.org/event/harnessing-ai-for-science-educators/
LOCATION:St. Francis College\, 179 Livingston Street\, Brooklyn\, NY\, 11201\, United States
CATEGORIES:All Grades,Featured,Upcoming Events
ATTACH;FMTTYPE=image/jpeg:https://stemteachersnyc.org/wp-content/uploads/2025/10/https___cdn.evbuc_.com_images_1166325843_2662952029601_1_original.jpeg
END:VEVENT
BEGIN:VEVENT
DTSTART;TZID=America/New_York:20251026T130000
DTEND;TZID=America/New_York:20251026T150000
DTSTAMP:20260421T212508
CREATED:20250917T131953Z
LAST-MODIFIED:20250923T154130Z
UID:10000641-1761483600-1761490800@stemteachersnyc.org
SUMMARY:The Questioning Classroom
DESCRIPTION:Help your students ask more questions in your science classroom – questions that promote a sense of wonder\, and a love for learning!\n\n\nKEY INFORMATION\n\nDate/Time: Sunday\, October 26\, 1pm – 3pm\nLocation: St. Francis College\, downtown Brooklyn\nWorkshop Leader: Peter Davenport (bio below)\nAppropriate for: Teachers of all age levels\, especially those employing project-based learning with their students.\n2hrs of CTLE credit offered\n\nWORKSHOP DESCRIPTION\nHave you ever wished students would ask more questions in your science classroom\, questions that promote a sense of wonder and foster the desire to learn more? Designed for early and mid-career teachers\, this workshop will explore how to use the Question Formulation Technique (QFT) to get all of your students involved in asking (and answering) phenomenon-based questions throughout your units. We will also discuss how the QFT works as a formative assessment and in fulfilling many indicators in the Danielson framework. \nTHIS WORKSHOP IS PART OF AN AUTUMN SERIES for teachers using project-based curriculum working up to student-driven investigations and year-end project showcases. All are especially relevant to NYAS Scientist in Resident participants\, but all are welcome to join. Other workshops in this series include: \n\nSun\, 11/9\, Testable Questions (registration open soon!)\nSun\, 11/23\, Experimental Design (registration open soon!)\nSocratic Dialogue (more info coming soon!)\n\nWORKSHOP LEADER\nPeter Davenport has taught middle school life\, earth and physical sciences in The Bronx for the past 12 years. Prior to teaching\, he was a print journalist and editor\, and worked as an interpretive guide developing and leading outdoor programs at Walden Pond in Concord\, Mass.\, and with the Appalachian Mountain Club in New Hampshire. He holds an undergraduate degree in history and graduate degrees in teaching and environmental education. He spends free time bird-watching in New York City’s green spaces. \nABOUT STEMteachersNYC\nSince 2011\, STEMteachersNYC has delivered professional development workshops for teachers\, by teachers\, about teaching. We are an approved CTLE and NYCPS MTAC vendor. All workshops over 2hrs offer CTLE. Below is some important information\, but please see our official Registration FAQ on our website for full details and policies. \nPricing: workshop/event pricing reflects a desire to offer affordable professional learning experiences. Some workshops are subsidized and offered at a discount or for free. \nCUNY & other partner campus pre-service students: If you are training to be a teacher\, we want to welcome you to attend our workshops for free! Please email registration@stemteachersnyc.org for details and to see if you qualify. \nWant to pay by invoice or purchase order? We encourage you to ask your school or organization if this is a possibility. Please see the Registration FAQ for the process. \nAre there discounts available? Often\, yes! In the summers\, we offer Early Bird and Teacher discounts alongside a Full Price ticket meant for those whose school or organization is funding their ticket. In the summer\, we also have full scholarships\, and a Fellowship available. All year\, we announce specials and discounts on our social media (@STEMteachersNYC on Instagram\, LinkedIn\, Bluesky\, and Facebook)\, and in our Weekly Newsletter – sign up here. Additionally\, we partner with several organizations and CUNY to offer free tickets to teachers and pre-service teachers involved\, and if at any time price is a barrier to you purchasing a ticket\, please contact us at registration@STEMteachersNYC.org \nRefunds\, cancellations\, and other registration/ticketing policies or changes: Please see the full Registration FAQ for details and policies. \nPlease note: We take screenshots\, photographs and record video of our workshops in order to publicize a positive image of science teaching\, and of STEMteachersNYC – a recognized 501(c)(3) non-profit organization – and to support future teacher leaders. If you register\, you are agreeing to be photographed and to have your voice and image video-recorded. You are also agreeing to relinquish all your rights to the photographs and video recordings. \nIf you do not wish to be photographed or video-recorded – you must inform us before the workshop starts. For in-person workshops\, we may take one photograph of your face so that we can erase your image if we happen to catch it by chance during the workshop\, and we will do our best to avoid you. \nHave more questions? Please see the full Registration FAQ for further details and policies\, or contact us directly: \n\nRegistration or ticketing questions – registration@STEMteachersNYC.org\nQuestions about invoice/PO issues – bookkeeper@STEMteachersNYC.org\nAny other questions – info@STEMteachersNYC.org
URL:https://stemteachersnyc.org/event/the-questioning-classroom/
LOCATION:St. Francis College\, 179 Livingston Street\, Brooklyn\, NY\, 11201\, United States
CATEGORIES:All Grades,Featured,Upcoming Events
ATTACH;FMTTYPE=image/jpeg:https://stemteachersnyc.org/wp-content/uploads/2025/09/https___cdn.evbuc_.com_images_1126064243_2662952029601_1_original.jpeg
END:VEVENT
END:VCALENDAR