BEGIN:VCALENDAR
VERSION:2.0
PRODID:-//STEMteachersNYC - ECPv6.15.20//NONSGML v1.0//EN
CALSCALE:GREGORIAN
METHOD:PUBLISH
X-ORIGINAL-URL:https://stemteachersnyc.org
X-WR-CALDESC:Events for STEMteachersNYC
REFRESH-INTERVAL;VALUE=DURATION:PT1H
X-Robots-Tag:noindex
X-PUBLISHED-TTL:PT1H
BEGIN:VTIMEZONE
TZID:America/New_York
BEGIN:DAYLIGHT
TZOFFSETFROM:-0500
TZOFFSETTO:-0400
TZNAME:EDT
DTSTART:20250309T070000
END:DAYLIGHT
BEGIN:STANDARD
TZOFFSETFROM:-0400
TZOFFSETTO:-0500
TZNAME:EST
DTSTART:20251102T060000
END:STANDARD
BEGIN:DAYLIGHT
TZOFFSETFROM:-0500
TZOFFSETTO:-0400
TZNAME:EDT
DTSTART:20260308T070000
END:DAYLIGHT
BEGIN:STANDARD
TZOFFSETFROM:-0400
TZOFFSETTO:-0500
TZNAME:EST
DTSTART:20261101T060000
END:STANDARD
BEGIN:DAYLIGHT
TZOFFSETFROM:-0500
TZOFFSETTO:-0400
TZNAME:EDT
DTSTART:20270314T070000
END:DAYLIGHT
BEGIN:STANDARD
TZOFFSETFROM:-0400
TZOFFSETTO:-0500
TZNAME:EST
DTSTART:20271107T060000
END:STANDARD
END:VTIMEZONE
BEGIN:VEVENT
DTSTART;TZID=America/New_York:20260727T090000
DTEND;TZID=America/New_York:20260729T150000
DTSTAMP:20260421T194542
CREATED:20260415T143107Z
LAST-MODIFIED:20260415T143139Z
UID:10000681-1785142800-1785337200@stemteachersnyc.org
SUMMARY:Intro to Standards-Based Feedback & Assessment
DESCRIPTION:A 3-day introductory workshop to help you start implementing Standards-Based Assessment & Feedback in your classroom. All levels are welcome\n\n\nKEY INFORMATION\n\nLOCATION: St. Francis College\, 179 Livingston St.\, Brooklyn\nDATE & TIME: Monday\, July 27 – Wednesday\, July 29\, 2026\, 9am – 3pm daily\nLED BY: Sharona Kahn\, Smith\, and Mark Schober (bios below)\nCTLE AVAILABLE: 18\nTHIS WORKSHOP IS FOR: teachers/educators working with any subject\, any age level who have little or no experience in the SBFA techniques.\n\n  \n🚨NOTE: all are welcome at this workshop. There is also a workshop running Thursday-Friday the same week for those who want to further their SBFA practice\, and is appropriate for people who have taken the workshop before\, or who want to take both this summer. Click here to register. \n  \nWORKSHOP DESCRIPTION\nThis 3-day introductory workshop is designed for educators of all disciplines who want to explore how Standards-Based Assessment and Feedback techniques can transform their classrooms. How and what we assess fundamentally affects how we teach\, how our students learn\, and the relationships we build with them. By critically examining traditional grading practices—and the ways they can contribute to student inequalities—we’ll explore how shifting to a standards-based approach helps clarify what we want students to know and be able to do\, and how to communicate those objectives clearly. \nOver the course of the workshop\, you’ll be guided through the steps to set up your classes for standards-based grading\, with a focus on incremental\, manageable change. Together\, we’ll craft and refine learning objectives\, connect those objectives to assessments\, and explore how to provide feedback that helps students meet your goals. And you’ll develop methods to provide your students with itemized feedback aligned to defined course objectives\, helping them better understand what they know and what they need to practice\, supporting a growth mindset and a practice-until-you-succeed approach to learning. \nThere will be structured time to evaluate your current grading practices\, examine sample standards\, assessments\, and gradebooks\, and begin tailoring these tools for your own classroom. Throughout\, we’ll consider how to design an assessment system that is part of a cyclical learning process and reflects an equity lens. Whether you’re new to standards-based grading or just getting started\, you’ll leave with practical strategies\, concrete resources\, and a clear path forward. It will be a fun and intense few days that we hope you will find invigorating and rewarding! \n  \nWORKSHOP LEADERS\nKahn is the Mathematics Department Chair at the Berkeley Carroll School\, where she has taught and advised middle school students for the past eight years. With 16 years of experience in education\, she focuses on creating hands-on\, equitable learning experiences that help students develop deep mathematical understanding. Since joining STEMteachersNYC in 2017\, Sharona has both taken and led workshops\, with a particular passion for standards-based feedback and assessment. She is a recipient of the Siegel STEM Fellow Endowment. \nSmith – bio coming soon! \nMark Schober – bio coming soon! \n  \nABOUT STEMteachersNYC\nSTEMteachersNYC is celebrating 15 years! Since 2011\, we have delivered professional development workshops for teachers\, by teachers\, about teaching. We are an approved CTLE and NYCPS MTAC vendor. All workshops over 2hrs offer CTLE. Below is some important information\, but please see our official Registration FAQ on our website for full details and policies. \nPricing: workshop/event pricing reflects a desire to offer affordable professional learning experiences. Some workshops are subsidized and offered at a discount or for free. Some workshops include extra materials costs. Often\, there is both a “Full Price” ticket for people who can pay full price and for schools/organizations paying for their staff to attend\, and a “Teacher Price” ticket for teachers/educators paying out of pocket. If price is a barrier to your participation\, please keep reading for several options. \nCUNY & other partner campus pre-service students: If you are training to be a teacher\, we want to welcome you to attend our workshops for free! Please email registration@stemteachersnyc.org for details and to see if you qualify. \nWant to pay by invoice or purchase order? We encourage you to ask your school or organization if this is a possibility. Please see the Registration FAQ for the process\, which includes a template letter with messaging geared towards administrators. \nAre there discounts available? Often\, yes! \n\nDiscounted Early Bird and “Teacher Price” tickets are often available.\nEach summer\, the Wanninkhof Excellence in Teaching Scholarship provides up to 2 free workshops per teacher in TItle 1 or similar schools.\nSpecials and discounts are announced on our social media (@STEMteachersNYC on Instagram\, LinkedIn\, Bluesky\, and Facebook)\, and in our Weekly Newsletter – sign up here.\nWe partner with several organizations and CUNY to offer free tickets to teachers and pre-service teachers involved.\nIf at any time price is a barrier to you purchasing a ticket\, please contact us at registration@STEMteachersNYC.org\n\nRefunds\, cancellations\, and other registration/ticketing policies or changes: Please see the full Registration FAQ for details and policies. \nPlease note: We take screenshots\, photographs and record video of our workshops in order to publicize a positive image of science teaching\, and of STEMteachersNYC – a recognized 501(c)(3) non-profit organization – and to support future teacher leaders. If you register\, you are agreeing to be photographed and to have your voice and image video-recorded. You are also agreeing to relinquish all your rights to the photographs and video recordings. \nIf you do not wish to be photographed or video-recorded – you must inform us before the workshop starts. For in-person workshops\, we may take one photograph of your face so that we can erase your image if we happen to catch it by chance during the workshop\, and we will do our best to avoid you. \nHave more questions? Please see the full Registration FAQ for further details and policies\, or contact us directly: \n\n \n \nRegistration or ticketing questions – registration@STEMteachersNYC.org\nQuestions about invoice/PO issues – bookkeeper@STEMteachersNYC.org\nAny other questions – info@STEMteachersNYC.org
URL:https://stemteachersnyc.org/event/intro-to-standards-based-feedback-assessment/
LOCATION:St. Francis College\, 179 Livingston Street\, Brooklyn\, NY\, 11201\, United States
CATEGORIES:All Grades,Featured,Summer STEM 2026,Upcoming Events
ATTACH;FMTTYPE=image/webp:https://stemteachersnyc.org/wp-content/uploads/2026/04/image-10.webp
END:VEVENT
BEGIN:VEVENT
DTSTART;TZID=America/New_York:20260727T090000
DTEND;TZID=America/New_York:20260731T150000
DTSTAMP:20260421T194542
CREATED:20260416T132024Z
LAST-MODIFIED:20260416T132546Z
UID:10000684-1785142800-1785510000@stemteachersnyc.org
SUMMARY:Climate & Environmental Science Bootcamp
DESCRIPTION:Prepare for NYS’s new Climate Education K-12 Instructional Requirements with our 5-day Interdisciplinary Bootcamp! All teachers are welcome!\n\n\nKEY INFORMATION\n\nLOCATION: St. Francis College\, 179 Livingston St.\, Brooklyn\nDATE & TIME: Monday\, July 27 – Friday\, July 31\, 2026\, 9am – 3pm daily\nLED BY: Glen E. Stuart and Jessica Genter (bios below)\nCTLE AVAILABLE: 30\nTHIS WORKSHOP IS FOR: K-12 teachers in any subject excited to prepare for the new NYS Climate Education requirements!\n\n  \nWORKSHOP DESCRIPTION\n🚨THIS JUST IN: In collaboration with students\, educators\, NGO partners\, lawmakers\, and many of you\, the New York State Board of Regents approved a historic new statewide K-12 instructional requirement for climate education! This will ensure that students are given the opportunity to learn about the causes\, impacts\, and solutions to the climate crisis. The requirement will go into effect in the 2027-2028 school year beginning with grades 5-12 and grades K-4 in the 2028-29 school year (read more about it here) and STEMteachersNYC is here to support YOU with our Interdisciplinary Climate & Environmental Science Bootcamp. \nThis 5-day interdisciplinary workshop will explore active learning strategies for deepening understanding of crucial climate and climate related concepts that will empower students of any age\, in any subject area. Throughout the week\, you will engage in thought-provoking\, classroom-tested\, hands-on activities and discussions. You will spend time observing instruction from the point of view of a student (“student-mode”)\, and unpacking those experiences in “teacher-mode” to better understand how to empower your students. \nWalk away with cutting-edge\, standards-aligned content spanning science and the humanities\, helping to answer\, ‘What should we teach students?” as well as a new toolkit of teacher moves to help answer\, “How should we teach students?” By the end of the week\, you will be prepared to support students and colleagues alike as we transition into a climate education future. Join a growing community of front-line educators who understand the importance of truth\, action\, and resilience. \nARE YOU BRINGING 2+ TEACHERS FROM THE SAME SCHOOL/ORGANIZATION? Even better – someone who’s not a typical science teacher? We have a discount code for you! Email Program Director\, Brian Levine\, at brian@stemteachersnyc.org to set you up. \nA full downloadable agenda is available here. \n  \nWORKSHOP LEADER(S)\nGlen Stuart has been a participant and facilitator of this and other workshops at STEMteachersNYC for 10 years. He earned an M.A from Rider University and a B.S. From Rutgers. Currently\, he is entering his 14th year of teaching Environmental Science and Biology at Montgomery High School in New Jersey. \nJessica Genter is currently working at Friends Seminary\, helping students learn Introductory Biology\, Advanced Biology\, and Environmental Science. She was first introduced to teaching Environmental Science through Glen and fell in love with the curriculum’s ability to get students to care about their world through science\, art\, history\, and philosophy. Jessica is also an adjunct lecturer at City College\, where she helps teachers learn best practices for their classroom. \n  \nABOUT STEMteachersNYC\nSTEMteachersNYC is celebrating 15 years! Since 2011\, we have delivered professional development workshops for teachers\, by teachers\, about teaching. We are an approved CTLE and NYCPS MTAC vendor. All workshops over 2hrs offer CTLE. Below is some important information\, but please see our official Registration FAQ on our website for full details and policies. \nPricing: workshop/event pricing reflects a desire to offer affordable professional learning experiences. Some workshops are subsidized and offered at a discount or for free. Some workshops include extra materials costs. Often\, there is both a “Full Price” ticket for people who can pay full price and for schools/organizations paying for their staff to attend\, and a “Teacher Price” ticket for teachers/educators paying out of pocket. If price is a barrier to your participation\, please keep reading for several options. \nCUNY & other partner campus pre-service students: If you are training to be a teacher\, we want to welcome you to attend our workshops for free! Please email registration@stemteachersnyc.org for details and to see if you qualify. \nWant to pay by invoice or purchase order? We encourage you to ask your school or organization if this is a possibility. Please see the Registration FAQ for the process\, which includes a template letter with messaging geared towards administrators. \nAre there discounts available? Often\, yes! \n\nDiscounted Early Bird and “Teacher Price” tickets are often available.\nEach summer\, the Wanninkhof Excellence in Teaching Scholarship provides up to 2 free workshops per teacher in TItle 1 or similar schools.\nSpecials and discounts are announced on our social media (@STEMteachersNYC on Instagram\, LinkedIn\, Bluesky\, and Facebook)\, and in our Weekly Newsletter – sign up here.\nWe partner with several organizations and CUNY to offer free tickets to teachers and pre-service teachers involved.\nIf at any time price is a barrier to you purchasing a ticket\, please contact us at registration@STEMteachersNYC.org\n\nRefunds\, cancellations\, and other registration/ticketing policies or changes: Please see the full Registration FAQ for details and policies. \nPlease note: We take screenshots\, photographs and record video of our workshops in order to publicize a positive image of science teaching\, and of STEMteachersNYC – a recognized 501(c)(3) non-profit organization – and to support future teacher leaders. If you register\, you are agreeing to be photographed and to have your voice and image video-recorded. You are also agreeing to relinquish all your rights to the photographs and video recordings. \nIf you do not wish to be photographed or video-recorded – you must inform us before the workshop starts. For in-person workshops\, we may take one photograph of your face so that we can erase your image if we happen to catch it by chance during the workshop\, and we will do our best to avoid you. \nHave more questions? Please see the full Registration FAQ for further details and policies\, or contact us directly: \n\nRegistration or ticketing questions – registration@STEMteachersNYC.org\nQuestions about invoice/PO issues – bookkeeper@STEMteachersNYC.org\nAny other questions – info@STEMteachersNYC.org
URL:https://stemteachersnyc.org/event/climate-environmental-science-bootcamp/
LOCATION:St. Francis College\, 179 Livingston Street\, Brooklyn\, NY\, 11201\, United States
CATEGORIES:All Grades,ClimateSTEM,Featured,Summer STEM 2026,Upcoming Events
ATTACH;FMTTYPE=image/webp:https://stemteachersnyc.org/wp-content/uploads/2026/04/image-12.webp
END:VEVENT
BEGIN:VEVENT
DTSTART;TZID=America/New_York:20260730T090000
DTEND;TZID=America/New_York:20260731T150000
DTSTAMP:20260421T194542
CREATED:20260415T142843Z
LAST-MODIFIED:20260415T143220Z
UID:10000682-1785402000-1785510000@stemteachersnyc.org
SUMMARY:Taking Standards-Based Feedback & Assessment to the Next Level
DESCRIPTION:A 2-day advanced workshop to help you further standards-based assessment & feedback practices in your classroom.\n\n\nKEY INFORMATION\n\nLOCATION: St. Francis College\, 179 Livingston St.\, Brooklyn\nDATE & TIME: Monday\, July 27 – Wednesday\, July 29\, 2026\, 9am – 3pm daily\nLED BY: Sharona Kahn\, Smith\, and Mark Schober (bios below)\nCTLE AVAILABLE: 18\nTHIS WORKSHOP IS FOR: teachers/educators working with any subject\, any age level who have little or no experience in the SBFA techniques.\n\n🚨NOTE: this is an advanced-level workshop for those who have some experience. Completion of the introductory-level workshop is not mandated\, but highly suggested. To take the intro workshop this summer\, running Monday – Wednesday of the same week\, please register here. \n \nWORKSHOP DESCRIPTION\nThis 3-day introductory workshop is designed for educators of all disciplines who want to explore how Standards-Based Assessment and Feedback techniques can transform their classrooms. How and what we assess fundamentally affects how we teach\, how our students learn\, and the relationships we build with them. By critically examining traditional grading practices—and the ways they can contribute to student inequalities—we’ll explore how shifting to a standards-based approach helps clarify what we want students to know and be able to do\, and how to communicate those objectives clearly. \nOver the course of the workshop\, you’ll be guided through the steps to set up your classes for standards-based grading\, with a focus on incremental\, manageable change. Together\, we’ll craft and refine learning objectives\, connect those objectives to assessments\, and explore how to provide feedback that helps students meet your goals. And you’ll develop methods to provide your students with itemized feedback aligned to defined course objectives\, helping them better understand what they know and what they need to practice\, supporting a growth mindset and a practice-until-you-succeed approach to learning. \nThere will be structured time to evaluate your current grading practices\, examine sample standards\, assessments\, and gradebooks\, and begin tailoring these tools for your own classroom. Throughout\, we’ll consider how to design an assessment system that is part of a cyclical learning process and reflects an equity lens. Whether you’re new to standards-based grading or just getting started\, you’ll leave with practical strategies\, concrete resources\, and a clear path forward. It will be a fun and intense few days that we hope you will find invigorating and rewarding! \n \nWORKSHOP LEADERS\nSharona Kahn is the Mathematics Department Chair at the Berkeley Carroll School\, where she has taught and advised middle school students for the past eight years. With 16 years of experience in education\, she focuses on creating hands-on\, equitable learning experiences that help students develop deep mathematical understanding. Since joining STEMteachersNYC in 2017\, Sharona has both taken and led workshops\, with a particular passion for standards-based feedback and assessment. She is a recipient of the Siegel STEM Fellow Endowment. \nSmith – bio coming soon! \nMark Schober – bio coming soon! \n \nABOUT STEMteachersNYC\nSTEMteachersNYC is celebrating 15 years! Since 2011\, we have delivered professional development workshops for teachers\, by teachers\, about teaching. We are an approved CTLE and NYCPS MTAC vendor. All workshops over 2hrs offer CTLE. Below is some important information\, but please see our official Registration FAQ on our website for full details and policies. \nPricing: workshop/event pricing reflects a desire to offer affordable professional learning experiences. Some workshops are subsidized and offered at a discount or for free. Some workshops include extra materials costs. Often\, there is both a “Full Price” ticket for people who can pay full price and for schools/organizations paying for their staff to attend\, and a “Teacher Price” ticket for teachers/educators paying out of pocket. If price is a barrier to your participation\, please keep reading for several options. \nCUNY & other partner campus pre-service students: If you are training to be a teacher\, we want to welcome you to attend our workshops for free! Please email registration@stemteachersnyc.org for details and to see if you qualify. \nWant to pay by invoice or purchase order? We encourage you to ask your school or organization if this is a possibility. Please see the Registration FAQ for the process\, which includes a template letter with messaging geared towards administrators. \nAre there discounts available? Often\, yes! \n\nDiscounted Early Bird and “Teacher Price” tickets are often available.\nEach summer\, the Wanninkhof Excellence in Teaching Scholarship provides up to 2 free workshops per teacher in TItle 1 or similar schools.\nSpecials and discounts are announced on our social media (@STEMteachersNYC on Instagram\, LinkedIn\, Bluesky\, and Facebook)\, and in our Weekly Newsletter – sign up here.\nWe partner with several organizations and CUNY to offer free tickets to teachers and pre-service teachers involved.\nIf at any time price is a barrier to you purchasing a ticket\, please contact us at registration@STEMteachersNYC.org\n\nRefunds\, cancellations\, and other registration/ticketing policies or changes: Please see the full Registration FAQ for details and policies. \nPlease note: We take screenshots\, photographs and record video of our workshops in order to publicize a positive image of science teaching\, and of STEMteachersNYC – a recognized 501(c)(3) non-profit organization – and to support future teacher leaders. If you register\, you are agreeing to be photographed and to have your voice and image video-recorded. You are also agreeing to relinquish all your rights to the photographs and video recordings. \nIf you do not wish to be photographed or video-recorded – you must inform us before the workshop starts. For in-person workshops\, we may take one photograph of your face so that we can erase your image if we happen to catch it by chance during the workshop\, and we will do our best to avoid you. \nHave more questions? Please see the full Registration FAQ for further details and policies\, or contact us directly: \n\n \n \nRegistration or ticketing questions – registration@STEMteachersNYC.org\nQuestions about invoice/PO issues – bookkeeper@STEMteachersNYC.org\nAny other questions – info@STEMteachersNYC.org
URL:https://stemteachersnyc.org/event/taking-standards-based-feedback-assessment-to-the-next-level/
LOCATION:St. Francis College\, 179 Livingston Street\, Brooklyn\, NY\, 11201\, United States
CATEGORIES:All Grades,Featured,Summer STEM 2026,Upcoming Events
ATTACH;FMTTYPE=image/webp:https://stemteachersnyc.org/wp-content/uploads/2026/04/image-11.webp
END:VEVENT
END:VCALENDAR